BEGIN:VCALENDAR
VERSION:2.0
PRODID:-//Center for Materials Theory - ECPv6.7.0//NONSGML v1.0//EN
CALSCALE:GREGORIAN
METHOD:PUBLISH
X-WR-CALNAME:Center for Materials Theory
X-ORIGINAL-URL:https://cmt.rutgers.edu
X-WR-CALDESC:Events for Center for Materials Theory
REFRESH-INTERVAL;VALUE=DURATION:PT1H
X-Robots-Tag:noindex
X-PUBLISHED-TTL:PT1H
BEGIN:VTIMEZONE
TZID:UTC
BEGIN:STANDARD
TZOFFSETFROM:+0000
TZOFFSETTO:+0000
TZNAME:UTC
DTSTART:20250101T000000
END:STANDARD
END:VTIMEZONE
BEGIN:VEVENT
DTSTART;VALUE=DATE:20251120
DTEND;VALUE=DATE:20251122
DTSTAMP:20260423T095043
CREATED:20251119T231611Z
LAST-MODIFIED:20251119T231611Z
UID:1409-1763596800-1763769599@cmt.rutgers.edu
SUMMARY:Center for Materials Theory Fall 2025 Symposium!
DESCRIPTION:Join us for our Fall 2025 Symposium on Thursday 11/20 to Saturday 11/21! \nThe schedule can be found at CMT_Symposium_Schedule
URL:https://cmt.rutgers.edu/event/center-for-materials-theory-fall-2025-symposium/
LOCATION:SRN-330
END:VEVENT
END:VCALENDAR